BEGIN:VCALENDAR
VERSION:2.0
PRODID:-//Plan A Nijmegen - ECPv6.15.20//NONSGML v1.0//EN
CALSCALE:GREGORIAN
METHOD:PUBLISH
X-WR-CALNAME:Plan A Nijmegen
X-ORIGINAL-URL:https://plan-a-nijmegen.nl
X-WR-CALDESC:Evenementen voor Plan A Nijmegen
REFRESH-INTERVAL;VALUE=DURATION:PT1H
X-Robots-Tag:noindex
X-PUBLISHED-TTL:PT1H
BEGIN:VTIMEZONE
TZID:UTC
BEGIN:STANDARD
TZOFFSETFROM:+0000
TZOFFSETTO:+0000
TZNAME:UTC
DTSTART:20250101T000000
END:STANDARD
END:VTIMEZONE
BEGIN:VEVENT
DTSTART;TZID=UTC:20260417T180000
DTEND;TZID=UTC:20260417T213000
DTSTAMP:20260421T202354
CREATED:20260402T135221Z
LAST-MODIFIED:20260402T135221Z
UID:2385-1776448800-1776461400@plan-a-nijmegen.nl
SUMMARY:4 Jaar Plan_A vieren we met DJ Zinsimillia!
DESCRIPTION:Plan_A wordt deze dag 4 jaar oud! 🎉🎂\n\nInmiddels zijn we een paar vergaderruimtes\, veel nieuwe vette events en leuke vaste klanten rijker – om\ndit samen te vieren\, draait vanavond DJ Zinsimillia in ons restaurant! Het wordt een overheerlijke borrel met\ngoede muziek\, gezelligheid en een sfeertje om op te proosten. 🥂\n\nZien we jou ook? 👀
URL:https://plan-a-nijmegen.nl/event/4-jaar-plan_a-vieren-we-met-dj-zinsimillia/
CATEGORIES:Live Muziek,Vrijmibo
ATTACH;FMTTYPE=image/jpeg:https://plan-a-nijmegen.nl/wp-content/uploads/2026/04/Plan_A-jarig-4-jaar-oud.jpg
END:VEVENT
END:VCALENDAR