BEGIN:VCALENDAR
VERSION:2.0
PRODID:-//Plan A Nijmegen - ECPv6.15.20//NONSGML v1.0//EN
CALSCALE:GREGORIAN
METHOD:PUBLISH
X-WR-CALNAME:Plan A Nijmegen
X-ORIGINAL-URL:https://plan-a-nijmegen.nl
X-WR-CALDESC:Evenementen voor Plan A Nijmegen
REFRESH-INTERVAL;VALUE=DURATION:PT1H
X-Robots-Tag:noindex
X-PUBLISHED-TTL:PT1H
BEGIN:VTIMEZONE
TZID:UTC
BEGIN:STANDARD
TZOFFSETFROM:+0000
TZOFFSETTO:+0000
TZNAME:UTC
DTSTART:20250101T000000
END:STANDARD
END:VTIMEZONE
BEGIN:VEVENT
DTSTART;TZID=UTC:20260321T140000
DTEND;TZID=UTC:20260321T190000
DTSTAMP:20260421T220752
CREATED:20260226T131823Z
LAST-MODIFIED:20260317T142309Z
UID:2332-1774101600-1774119600@plan-a-nijmegen.nl
SUMMARY:VINTAGEMERT x Plan_A
DESCRIPTION:Op 21 maart tovert Plan_A zich om tot een vintagedorp 🪞🛋️.\n\n\n \n\n\nWat kan je verwachten?\n\n\nVan unieke vintage kleding tot handmade & upcycled schatkisten\, interieurvondsten\, vinyl\, iets lekkers te eten én live muziek. En ’s avonds blijft dat leuke sfeertje hangen\, want dan sluiten we af met een DJ.🎶\n\n\n \n\n\nKom struinen\, proeven\, ontdekken en misschien ga je wel naar huis met dat ene pareltje waarvan je niet wist dat je het zocht!\n\n\n \n\n\n🗓️ zaterdag 21 maart \n\n\n ⏰ 14:00 – 19:00\n\n\n 🎟 Gratis toegang\n\n\n \n\n\nDit is het program-mert!
URL:https://plan-a-nijmegen.nl/event/vintagemert-x-plan_a/
CATEGORIES:Live Muziek,Markt
ATTACH;FMTTYPE=image/png:https://plan-a-nijmegen.nl/wp-content/uploads/2026/02/Vintagemert-2026_INSTAGRAM-POST_INSTAGRAM-POST-scaled.png
END:VEVENT
END:VCALENDAR