BEGIN:VCALENDAR
VERSION:2.0
PRODID:-//Plan A Nijmegen - ECPv6.15.20//NONSGML v1.0//EN
CALSCALE:GREGORIAN
METHOD:PUBLISH
X-ORIGINAL-URL:https://plan-a-nijmegen.nl
X-WR-CALDESC:Evenementen voor Plan A Nijmegen
REFRESH-INTERVAL;VALUE=DURATION:PT1H
X-Robots-Tag:noindex
X-PUBLISHED-TTL:PT1H
BEGIN:VTIMEZONE
TZID:UTC
BEGIN:STANDARD
TZOFFSETFROM:+0000
TZOFFSETTO:+0000
TZNAME:UTC
DTSTART:20250101T000000
END:STANDARD
END:VTIMEZONE
BEGIN:VEVENT
DTSTART;TZID=UTC:20260424T193000
DTEND;TZID=UTC:20260424T223000
DTSTAMP:20260424T060951
CREATED:20260402T135413Z
LAST-MODIFIED:20260402T135413Z
UID:2388-1777059000-1777069800@plan-a-nijmegen.nl
SUMMARY:Avondklanken | VEX
DESCRIPTION:Bij een overheerlijke pizza hoort ook muziek om van te smullen. Daarom zal VEX bij ons Avondklanken overnemen op 24 april – reserveer nu alvast je plek om met zekerheid te genieten! \n🗓️ 24 April\n🕠 Vanaf 19:30\n🎶 Muziek van VEX \nOver VEX\nMaak kennis met VEX: een Nijmeegs powerpop/rocktrio dat barst van de muzikale ideeën en energie. Met hun melodische\, puntige sound\, van catchy pop tot stevige rock\, zijn ze helemaal klaar om de Nederlandse podia te veroveren. VEX ontstond in 2023 toen Erik ‘Eek’ Jansen en Bart van Kuijk elkaar na 20 jaar weer tegenkwamen en besloten hun muzikale samenwerking nieuw leven in te blazen. Met drummer Robert Klaassen als derde bandlid bleek de chemie meteen raak. Sindsdien bouwen ze razendsnel aan een groot repertoire vol eigen nummers\, met invloeden van o.a. The Police\, Foo Fighters en John Mayer.
URL:https://plan-a-nijmegen.nl/event/avondklanken-vex/
CATEGORIES:Live Muziek
ATTACH;FMTTYPE=image/jpeg:https://plan-a-nijmegen.nl/wp-content/uploads/2026/04/Avondklanken-Hersteld.jpg
END:VEVENT
BEGIN:VEVENT
DTSTART;TZID=UTC:20260425T173000
DTEND;TZID=UTC:20260425T210000
DTSTAMP:20260424T060951
CREATED:20260303T122108Z
LAST-MODIFIED:20260303T122108Z
UID:2337-1777138200-1777150800@plan-a-nijmegen.nl
SUMMARY:PubQuiz - Holland
DESCRIPTION:Wat weet jij allemaal over ons landje? \nTrommel jouw droomteam op en zet het in de agenda\, want op 25 april vind er weer een PubQuiz plaats! Samen met Martin Waser testen wij al jouw Hollandse kennis. \nHandig om te weten:\n🌟Zaterdag 25 april\n🌟Tijd: 18:00 – 21:00 uur (inloop vanaf 17.00)\n🌟Teams van 2 tot 4 personen\n🌟Tickets via de link\n⚡ Vol = vol \nZien we jullie 25 april? 🙌\nEr staan weer vette prijzen klaar\, dus mis de kans niet!
URL:https://plan-a-nijmegen.nl/event/pubquiz-holland/
CATEGORIES:Pubquiz
ATTACH;FMTTYPE=image/png:https://plan-a-nijmegen.nl/wp-content/uploads/2026/03/Posters-2026_PubQuiz-kopie.png
END:VEVENT
BEGIN:VEVENT
DTSTART;TZID=UTC:20260515T183000
DTEND;TZID=UTC:20260515T233000
DTSTAMP:20260424T060951
CREATED:20260407T122504Z
LAST-MODIFIED:20260416T144709Z
UID:2391-1778869800-1778887800@plan-a-nijmegen.nl
SUMMARY:Douze Points! – Hits\, Heels & Happen
DESCRIPTION:Douze Points! – Hits\, Heels & Happen\nMiskend Talent live Karaokeband × House of Heels × Naaistreek × Plan_A \nVan live karaoke en bingo tot DJ en dans\, gehost door dragqueens en -kings… Douze Points! heeft het allemaal. Zing je de longen uit je lijf met legendarische Songfestivalhits (of nummers die dat eigenlijk hadden moeten zijn)? Schrijf je in bij het Dragloket en schitter achter de microfoon met de liveband van Miskend Talent! Of ga je liever voor de hoofdprijs tijdens het bingo-diner? Eén avond\, volledige show\, heerlijke shared pizza en hapjes – en dat alles volledig zonder de EBU. \n🗓️ Vrijdag 15 mei\n🕗 inloop 18.00\, start 18:30 tot sluit\n🎫 Voor maar €27\,50 kan jij meedoen\, eten en genieten van alles wat deze avond te bieden heeft.\n🌟 Je kiest zelf hoe gek je het maakt.
URL:https://plan-a-nijmegen.nl/event/douze-points-hits-heels-happen/
LOCATION:Plan_A\, Vlietstraat 22\, Nijmegen\, Gelderland\, Netherlands
CATEGORIES:Live Muziek,Vrijmibo
ATTACH;FMTTYPE=image/png:https://plan-a-nijmegen.nl/wp-content/uploads/2026/04/Instagram-post-2-09-scaled.png
END:VEVENT
BEGIN:VEVENT
DTSTART;TZID=UTC:20260520T193000
DTEND;TZID=UTC:20260520T220000
DTSTAMP:20260424T060951
CREATED:20260416T143508Z
LAST-MODIFIED:20260416T144547Z
UID:2405-1779305400-1779314400@plan-a-nijmegen.nl
SUMMARY:Tote & Toast met Naaistreek
DESCRIPTION:Heb jij altijd al een eigen totebag willen pimpen\, maar hier nooit de juiste spulletjes voor gehad? Dan is dit écht iets voor jou! \nNa het succes van Borrel & Broche hebben wij samen met Naaistreek weer een nieuw concept bedacht: Tote & Toast.\nTerwijl je lekker een drankje sipt\, maak jij de meest blitse totebag waar iedereen jaloers op zal worden. \n🗓️ Woensdag 20 mei\n🕗 Vanaf 19.30\n🎫 Ticket & Totebag voor €15\,- \nDit zijn de technieken waarmee de Tote & Toasters aan de slag zullen gaan tijdens de workshop:\n🌸 Tamponeren met een stencil van kant.\n🌸 Transfer papier knippen en strijken (letters).\n🌸 Sierdraad opgezet met de naaimachine óf borduren. \nZien we jou daar? 👀 Aanmelden kan via de link!
URL:https://plan-a-nijmegen.nl/event/tote-toast-met-naaistreek/
CATEGORIES:Naaistreek
ATTACH;FMTTYPE=image/png:https://plan-a-nijmegen.nl/wp-content/uploads/2026/04/Posters-2026_Tote-en-Toast-scaled.png
END:VEVENT
BEGIN:VEVENT
DTSTART;TZID=UTC:20260523T140000
DTEND;TZID=UTC:20260524T220000
DTSTAMP:20260424T060951
CREATED:20260416T105634Z
LAST-MODIFIED:20260416T105634Z
UID:2403-1779544800-1779660000@plan-a-nijmegen.nl
SUMMARY:🌸 Pinkstermert bij Plan_A
DESCRIPTION:Op 23 en 24 mei tovert Plan_A zich om tot een bruisende hotspot tijdens de Pinkstermert! Dit weekend verschuift de schijnwerper gedeeltelijk van vintage naar makers. \nWat kun je verwachten?\nDit keer gaan we verder dan alleen vintage. Met een mix van makers\, creatieve ondernemers\, unieke concepten en originele producten. Alles wat bijzonder\, verrassend en cadeauwaardig is\, vind je bij onze mert. \nMaak je dag compleet met iets lekkers te eten en geniet van de live muziek. \nKom struinen\, proeven en ontdekken. Of je nu valt voor een handgemaakt kunstwerk of een vintage klassieker: je gaat gegarandeerd naar huis met iets bijzonders! \n\nData: zaterdag 23 mei & zondag 24 mei\nTijden: 14:00 – 18:30\nLocatie: Plan_A\, Vlietstraat 22\, Nijmegen\nToegang: GRATIS
URL:https://plan-a-nijmegen.nl/event/%f0%9f%8c%b8-pinkstermert-bij-plan_a/
CATEGORIES:Live Muziek,Markt
END:VEVENT
END:VCALENDAR